BEGIN:VCALENDAR
PRODID:-//MatrixMaxx//RemoteApi//EN
VERSION:2.0
METHOD:PUBLISH
CALSCALE:GREGORIAN
X-ORIGINAL-URL:http://www.fmi.org/forms/meeting/MeetingFormPublic/view?id=4F4BE5000005ED
BEGIN:VEVENT
SUMMARY:RELEX: Building and Sustaining Competitive Advantage in Grocery Retail
LAST-MODIFIED:20180523T153000Z
UID:ci_4F4BE5000005ED@matrixgroup.net
CLASS:PUBLIC
CREATED:20180523T153000Z
DTSTAMP:20180523T153000Z
DTSTART:20180523T153000Z
X-FUNAMBOL-ALLDAY:1
LOCATION:
DESCRIPTION:For full info see http://www.fmi.org/forms/meeting/MeetingFormPublic/view?id=4F4BE5000005ED\nWe’ll explore how grocery retail executives view today’s grocery market and what key initiatives they’re undertaking in their organizations’ retail and supply chain planning operations to build and sustain a competitive advantage.
DTEND:20180523T163000Z
URL:http://www.fmi.org/forms/meeting/MeetingFormPublic/view?id=4F4BE5000005ED
END:VEVENT
END:VCALENDAR