BEGIN:VCALENDAR
PRODID:-//MatrixMaxx//RemoteApi//EN
VERSION:2.0
METHOD:PUBLISH
CALSCALE:GREGORIAN
X-ORIGINAL-URL:http://www.fmi.org/forms/meeting/Microsite/FMIICCMeeting_June2018
BEGIN:VEVENT
SUMMARY:2018  Spring FMI Industry Collaboration Council Meeting
LAST-MODIFIED:20180627T160000Z
UID:ci_4F243C00000004@matrixgroup.net
CLASS:PUBLIC
CREATED:20180627T160000Z
DTSTAMP:20180627T160000Z
DTSTART:20180627T160000Z
X-FUNAMBOL-ALLDAY:1
LOCATION:
DESCRIPTION:For+full+info+see+http%3A%2F%2Fwww.fmi.org%2Fforms%2Fmeeting%2FMicrosite%2FFMIICCMeeting_June2018%0A
X-WR-CALDESC:For+full+info+see+http%3A%2F%2Fwww.fmi.org%2Fforms%2Fmeeting%2FMicrosite%2FFMIICCMeeting_June2018%0A
X-WR-CALNAME:Maxx Calendar
DTEND:20180628T160000Z
URL:http://www.fmi.org/forms/meeting/Microsite/FMIICCMeeting_June2018
END:VEVENT
END:VCALENDAR