BEGIN:VCALENDAR
PRODID:-//MatrixMaxx//RemoteApi//EN
VERSION:2.0
METHOD:PUBLISH
CALSCALE:GREGORIAN
X-ORIGINAL-URL:http://www.fmi.org/forms/meeting/MeetingFormPublic/view?id=4ED71E00000195
BEGIN:VEVENT
SUMMARY:Top Trends in Fresh: Food Transparency and Social and Cultural Alignment
LAST-MODIFIED:20180425T180000Z
UID:ci_4ED71E00000195@matrixgroup.net
CLASS:PUBLIC
CREATED:20180425T180000Z
DTSTAMP:20180425T180000Z
DTSTART:20180425T180000Z
X-FUNAMBOL-ALLDAY:1
LOCATION:Webinar
DESCRIPTION:For+full+info+see+http%3A%2F%2Fwww.fmi.org%2Fforms%2Fmeeting%2FMeetingFormPublic%2Fview%3Fid%3D4ED71E00000195%0ANew+research+from+IRI+and+the+Food+Marketing+Institute+%28FMI%29+shows+the+impact+that+transparency+and+social+and+cultural+initiatives+have+had+on+retail+sales+across+the+U.S.+
X-WR-CALDESC:For+full+info+see+http%3A%2F%2Fwww.fmi.org%2Fforms%2Fmeeting%2FMeetingFormPublic%2Fview%3Fid%3D4ED71E00000195%0ANew+research+from+IRI+and+the+Food+Marketing+Institute+%28FMI%29+shows+the+impact+that+transparency+and+social+and+cultural+initiatives+have+had+on+retail+sales+across+the+U.S.+
X-WR-CALNAME:Maxx Calendar
DTEND:20180425T190000Z
URL:http://www.fmi.org/forms/meeting/MeetingFormPublic/view?id=4ED71E00000195
END:VEVENT
END:VCALENDAR