BEGIN:VCALENDAR
PRODID:-//MatrixMaxx//RemoteApi//EN
VERSION:2.0
METHOD:PUBLISH
CALSCALE:GREGORIAN
X-ORIGINAL-URL:http://www.fmi.org/forms/meeting/MeetingFormPublic/view?id=4EC5670000015F
BEGIN:VEVENT
SUMMARY:Menu Labeling Compliance
LAST-MODIFIED:20180419T180000Z
UID:ci_4EC5670000015F@matrixgroup.net
CLASS:PUBLIC
CREATED:20180419T180000Z
DTSTAMP:20180419T180000Z
DTSTART:20180419T180000Z
X-FUNAMBOL-ALLDAY:1
LOCATION:
DESCRIPTION:For+full+info+see+http%3A%2F%2Fwww.fmi.org%2Fforms%2Fmeeting%2FMeetingFormPublic%2Fview%3Fid%3D4EC5670000015F%0AFMI%27s+Stephanie+Barnes+will+cover+the+requirements+of+the+menu+labeling+regulation.
X-WR-CALDESC:For+full+info+see+http%3A%2F%2Fwww.fmi.org%2Fforms%2Fmeeting%2FMeetingFormPublic%2Fview%3Fid%3D4EC5670000015F%0AFMI%27s+Stephanie+Barnes+will+cover+the+requirements+of+the+menu+labeling+regulation.
X-WR-CALNAME:Maxx Calendar
DTEND:20180419T190000Z
URL:http://www.fmi.org/forms/meeting/MeetingFormPublic/view?id=4EC5670000015F
END:VEVENT
END:VCALENDAR