BEGIN:VCALENDAR
PRODID:-//MatrixMaxx//RemoteApi//EN
VERSION:2.0
METHOD:PUBLISH
CALSCALE:GREGORIAN
X-ORIGINAL-URL:http://www.fmi.org/forms/meeting/MeetingFormPublic/view?id=4E89760000007C
BEGIN:VEVENT
SUMMARY:The Future is Here: Next Generation Online Grocery Shopping
LAST-MODIFIED:20180524T180000Z
UID:ci_4E89760000007C@matrixgroup.net
CLASS:PUBLIC
CREATED:20180524T180000Z
DTSTAMP:20180524T180000Z
DTSTART:20180524T180000Z
X-FUNAMBOL-ALLDAY:1
LOCATION:
DESCRIPTION:For+full+info+see+http%3A%2F%2Fwww.fmi.org%2Fforms%2Fmeeting%2FMeetingFormPublic%2Fview%3Fid%3D4E89760000007C%0A
X-WR-CALDESC:For+full+info+see+http%3A%2F%2Fwww.fmi.org%2Fforms%2Fmeeting%2FMeetingFormPublic%2Fview%3Fid%3D4E89760000007C%0A
X-WR-CALNAME:Maxx Calendar
DTEND:20180524T190000Z
URL:http://www.fmi.org/forms/meeting/MeetingFormPublic/view?id=4E89760000007C
END:VEVENT
END:VCALENDAR