BEGIN:VCALENDAR
PRODID:-//MatrixMaxx//RemoteApi//EN
VERSION:2.0
METHOD:PUBLISH
CALSCALE:GREGORIAN
X-ORIGINAL-URL:http://www.fmi.org/forms/meeting/MeetingFormPublic/view?id=4DF57100000739
BEGIN:VEVENT
SUMMARY:Power of Private Brands: From the Register
LAST-MODIFIED:20180412T180000Z
UID:ci_4DF57100000739@matrixgroup.net
CLASS:PUBLIC
CREATED:20180412T180000Z
DTSTAMP:20180412T180000Z
DTSTART:20180412T180000Z
X-FUNAMBOL-ALLDAY:1
LOCATION:Webinar
DESCRIPTION:For+full+info+see+http%3A%2F%2Fwww.fmi.org%2Fforms%2Fmeeting%2FMeetingFormPublic%2Fview%3Fid%3D4DF57100000739%0AThis+year%E2%80%99s+Power+of+Private+Brands%3A+From+the+Register+report+analyzes+the+gains+and+declines+from+2017%2C+new+dynamics+driving+growth%2C+and+things+to+consider+for+continued+growth.
X-WR-CALDESC:For+full+info+see+http%3A%2F%2Fwww.fmi.org%2Fforms%2Fmeeting%2FMeetingFormPublic%2Fview%3Fid%3D4DF57100000739%0AThis+year%E2%80%99s+Power+of+Private+Brands%3A+From+the+Register+report+analyzes+the+gains+and+declines+from+2017%2C+new+dynamics+driving+growth%2C+and+things+to+consider+for+continued+growth.
X-WR-CALNAME:Maxx Calendar
DTEND:20180412T190000Z
URL:http://www.fmi.org/forms/meeting/MeetingFormPublic/view?id=4DF57100000739
END:VEVENT
END:VCALENDAR