BEGIN:VCALENDAR
PRODID:-//MatrixMaxx//RemoteApi//EN
VERSION:2.0
METHOD:PUBLISH
CALSCALE:GREGORIAN
X-ORIGINAL-URL:http://www.fmi.org/forms/meeting/MeetingFormPublic/view?id=4DD50000000ED
BEGIN:VEVENT
SUMMARY:2010 Asset Protection Conference
LAST-MODIFIED:20100314
UID:ci_4DD50000000ED@matrixgroup.net
CLASS:PUBLIC
CREATED:20100314
DTSTAMP:20100314
DTSTART:20100314
X-FUNAMBOL-ALLDAY:1
LOCATION:The+Ritz-Carlton%2C+Dallas
DESCRIPTION:For+full+info+see+http%3A%2F%2Fwww.fmi.org%2Fforms%2Fmeeting%2FMeetingFormPublic%2Fview%3Fid%3D4DD50000000ED%0A
X-WR-CALDESC:For+full+info+see+http%3A%2F%2Fwww.fmi.org%2Fforms%2Fmeeting%2FMeetingFormPublic%2Fview%3Fid%3D4DD50000000ED%0A
X-WR-CALNAME:Maxx Calendar
DTEND:20100317T050000Z
URL:http://www.fmi.org/forms/meeting/MeetingFormPublic/view?id=4DD50000000ED
END:VEVENT
END:VCALENDAR