BEGIN:VCALENDAR
PRODID:-//MatrixMaxx//RemoteApi//EN
VERSION:2.0
METHOD:PUBLISH
CALSCALE:GREGORIAN
X-ORIGINAL-URL:http://www.fmi.org/forms/meeting/MeetingFormPublic/view?id=4DB31B00000069
BEGIN:VEVENT
SUMMARY:Daymon: The State of the Private Brand Industry
LAST-MODIFIED:20180329T180000Z
UID:ci_4DB31B00000069@matrixgroup.net
CLASS:PUBLIC
CREATED:20180329T180000Z
DTSTAMP:20180329T180000Z
DTSTART:20180329T180000Z
X-FUNAMBOL-ALLDAY:1
LOCATION:Webinar
DESCRIPTION:For+full+info+see+http%3A%2F%2Fwww.fmi.org%2Fforms%2Fmeeting%2FMeetingFormPublic%2Fview%3Fid%3D4DB31B00000069%0ALast+year%2C+retailer+branded+sales+outpaced+national+brands+by+about+8+times.++This+webinar+will+provide+attendees+with+a++roadmap+to+maximize+the+potential+of+the+%24166+billion+Private+Brand+Industry.+
X-WR-CALDESC:For+full+info+see+http%3A%2F%2Fwww.fmi.org%2Fforms%2Fmeeting%2FMeetingFormPublic%2Fview%3Fid%3D4DB31B00000069%0ALast+year%2C+retailer+branded+sales+outpaced+national+brands+by+about+8+times.++This+webinar+will+provide+attendees+with+a++roadmap+to+maximize+the+potential+of+the+%24166+billion+Private+Brand+Industry.+
X-WR-CALNAME:Maxx Calendar
DTEND:20180329T190000Z
URL:http://www.fmi.org/forms/meeting/MeetingFormPublic/view?id=4DB31B00000069
END:VEVENT
END:VCALENDAR