BEGIN:VCALENDAR
PRODID:-//MatrixMaxx//RemoteApi//EN
VERSION:2.0
METHOD:PUBLISH
CALSCALE:GREGORIAN
X-ORIGINAL-URL:http://www.fmi.org/forms/meeting/MeetingFormPublic/view?id=4D96F300000927
BEGIN:VEVENT
SUMMARY:2017 FDA Food Code Changes and Updates
LAST-MODIFIED:20180309T140000Z
UID:ci_4D96F300000927@matrixgroup.net
CLASS:PUBLIC
CREATED:20180309T140000Z
DTSTAMP:20180309T140000Z
DTSTART:20180309T140000Z
X-FUNAMBOL-ALLDAY:1
LOCATION:
DESCRIPTION:For+full+info+see+http%3A%2F%2Fwww.fmi.org%2Fforms%2Fmeeting%2FMeetingFormPublic%2Fview%3Fid%3D4D96F300000927%0AThe+FDA+has+released+the+2017+Food+Code.++The+FDA+Retail+Food+Protection+team+will+be+hosting+a+webinar+for+the+food+retail+industry+to+learn+about+the+changes+and+updates+included+in+the+2017+FDA+Food+Code.%0D%0A
X-WR-CALDESC:For+full+info+see+http%3A%2F%2Fwww.fmi.org%2Fforms%2Fmeeting%2FMeetingFormPublic%2Fview%3Fid%3D4D96F300000927%0AThe+FDA+has+released+the+2017+Food+Code.++The+FDA+Retail+Food+Protection+team+will+be+hosting+a+webinar+for+the+food+retail+industry+to+learn+about+the+changes+and+updates+included+in+the+2017+FDA+Food+Code.%0D%0A
X-WR-CALNAME:Maxx Calendar
DTEND:20180309T153000Z
URL:http://www.fmi.org/forms/meeting/MeetingFormPublic/view?id=4D96F300000927
END:VEVENT
END:VCALENDAR