BEGIN:VCALENDAR
PRODID:-//MatrixMaxx//RemoteApi//EN
VERSION:2.0
METHOD:PUBLISH
CALSCALE:GREGORIAN
X-ORIGINAL-URL:http://www.fmi.org/forms/meeting/MeetingFormPublic/view?id=4D224600000116
BEGIN:VEVENT
SUMMARY:Next-Generation Loyalty: Get It Right in Food Retailing
LAST-MODIFIED:20180308T190000Z
UID:ci_4D224600000116@matrixgroup.net
CLASS:PUBLIC
CREATED:20180308T190000Z
DTSTAMP:20180308T190000Z
DTSTART:20180308T190000Z
X-FUNAMBOL-ALLDAY:1
LOCATION:Webinar
DESCRIPTION:For+full+info+see+http%3A%2F%2Fwww.fmi.org%2Fforms%2Fmeeting%2FMeetingFormPublic%2Fview%3Fid%3D4D224600000116%0ALoyalty+means+different+things+to+different+generations.+That%E2%80%99s+why+FMI+has+collaborated+with+Precima+on+a+multi-point+thought+leadership+initiative+that+has+culminated+into+this+webinar+on+the+ins+and+outs+of+loyalty+in+the+realm+of+food+retailing.+
X-WR-CALDESC:For+full+info+see+http%3A%2F%2Fwww.fmi.org%2Fforms%2Fmeeting%2FMeetingFormPublic%2Fview%3Fid%3D4D224600000116%0ALoyalty+means+different+things+to+different+generations.+That%E2%80%99s+why+FMI+has+collaborated+with+Precima+on+a+multi-point+thought+leadership+initiative+that+has+culminated+into+this+webinar+on+the+ins+and+outs+of+loyalty+in+the+realm+of+food+retailing.+
X-WR-CALNAME:Maxx Calendar
DTEND:20180308T200000Z
URL:http://www.fmi.org/forms/meeting/MeetingFormPublic/view?id=4D224600000116
END:VEVENT
END:VCALENDAR