BEGIN:VCALENDAR
PRODID:-//MatrixMaxx//RemoteApi//EN
VERSION:2.0
METHOD:PUBLISH
CALSCALE:GREGORIAN
X-ORIGINAL-URL:http://www.fmi.org/forms/meeting/MeetingFormPublic/view?id=4D087900000A32
BEGIN:VEVENT
SUMMARY:IRI and FMI Top Trends in Fresh – Through Consumers’ Eyes
LAST-MODIFIED:20180222T190000Z
UID:ci_4D087900000A32@matrixgroup.net
CLASS:PUBLIC
CREATED:20180222T190000Z
DTSTAMP:20180222T190000Z
DTSTART:20180222T190000Z
X-FUNAMBOL-ALLDAY:1
LOCATION:Webinar
DESCRIPTION:For full info see http://www.fmi.org/forms/meeting/MeetingFormPublic/view?id=4D087900000A32\nThe first of five webinars will focus on “Holistic Health and Convenience.” IRI’s Sally Lyons Wyatt and Larry Levin will be sharing how these trends have evolved through the voice of the consumer and how they differ across generations.
DTEND:20180222T200000Z
URL:http://www.fmi.org/forms/meeting/MeetingFormPublic/view?id=4D087900000A32
END:VEVENT
END:VCALENDAR