BEGIN:VCALENDAR
PRODID:-//MatrixMaxx//RemoteApi//EN
VERSION:2.0
METHOD:PUBLISH
CALSCALE:GREGORIAN
X-ORIGINAL-URL:http://www.fmi.org/forms/meeting/MeetingFormPublic/view?id=4CDBBF00000158
BEGIN:VEVENT
SUMMARY:Webinar: Employment Policies Institute - Changing the Discussion on Wages
LAST-MODIFIED:20180212T203000Z
UID:ci_4CDBBF00000158@matrixgroup.net
CLASS:PUBLIC
CREATED:20180212T203000Z
DTSTAMP:20180212T203000Z
DTSTART:20180212T203000Z
X-FUNAMBOL-ALLDAY:1
LOCATION:
DESCRIPTION:For+full+info+see+http%3A%2F%2Fwww.fmi.org%2Fforms%2Fmeeting%2FMeetingFormPublic%2Fview%3Fid%3D4CDBBF00000158%0AThe+Employment+Policies+Institute+dives+into+their+research+concerning+wages%2C+particularly+minimum+wage+and+the+public+opinions+surrounding+it.
X-WR-CALDESC:For+full+info+see+http%3A%2F%2Fwww.fmi.org%2Fforms%2Fmeeting%2FMeetingFormPublic%2Fview%3Fid%3D4CDBBF00000158%0AThe+Employment+Policies+Institute+dives+into+their+research+concerning+wages%2C+particularly+minimum+wage+and+the+public+opinions+surrounding+it.
X-WR-CALNAME:Maxx Calendar
DTEND:20180212T213000Z
URL:http://www.fmi.org/forms/meeting/MeetingFormPublic/view?id=4CDBBF00000158
END:VEVENT
END:VCALENDAR