BEGIN:VCALENDAR
PRODID:-//MatrixMaxx//RemoteApi//EN
VERSION:2.0
METHOD:PUBLISH
CALSCALE:GREGORIAN
X-ORIGINAL-URL:http://www.fmi.org/forms/meeting/MeetingFormPublic/view?id=4CDB2C00000104
BEGIN:VEVENT
SUMMARY:Webinar: Pensions 101
LAST-MODIFIED:20180216T180000Z
UID:ci_4CDB2C00000104@matrixgroup.net
CLASS:PUBLIC
CREATED:20180216T180000Z
DTSTAMP:20180216T180000Z
DTSTART:20180216T180000Z
X-FUNAMBOL-ALLDAY:1
LOCATION:
DESCRIPTION:For+full+info+see+http%3A%2F%2Fwww.fmi.org%2Fforms%2Fmeeting%2FMeetingFormPublic%2Fview%3Fid%3D4CDB2C00000104%0AFMI%27s+Andy+Harig+covers+all+you+need+to+know+about+pensions.
X-WR-CALDESC:For+full+info+see+http%3A%2F%2Fwww.fmi.org%2Fforms%2Fmeeting%2FMeetingFormPublic%2Fview%3Fid%3D4CDB2C00000104%0AFMI%27s+Andy+Harig+covers+all+you+need+to+know+about+pensions.
X-WR-CALNAME:Maxx Calendar
DTEND:20180216T190000Z
URL:http://www.fmi.org/forms/meeting/MeetingFormPublic/view?id=4CDB2C00000104
END:VEVENT
END:VCALENDAR