BEGIN:VCALENDAR
PRODID:-//MatrixMaxx//RemoteApi//EN
VERSION:2.0
METHOD:PUBLISH
CALSCALE:GREGORIAN
X-ORIGINAL-URL:http://www.fmi.org/forms/meeting/MeetingFormPublic/view?id=4CD02B00000060
BEGIN:VEVENT
SUMMARY:COLLABORATING FOR FMCG OMNICHANNEL SUCCESS
LAST-MODIFIED:20180215T170000Z
UID:ci_4CD02B00000060@matrixgroup.net
CLASS:PUBLIC
CREATED:20180215T170000Z
DTSTAMP:20180215T170000Z
DTSTART:20180215T170000Z
X-FUNAMBOL-ALLDAY:1
LOCATION:Webinar
DESCRIPTION:For full info see http://www.fmi.org/forms/meeting/MeetingFormPublic/view?id=4CD02B00000060\nJoin speakers from Nielsen, The Dialogic Group and Food Marketing Institute for Collaborating for FMCG Omnichannel Success as we explore our recent research into the inhibitors and enablers for omnichannel success. 
DTEND:20180215T180000Z
URL:http://www.fmi.org/forms/meeting/MeetingFormPublic/view?id=4CD02B00000060
END:VEVENT
END:VCALENDAR