BEGIN:VCALENDAR
PRODID:-//MatrixMaxx//RemoteApi//EN
VERSION:2.0
METHOD:PUBLISH
CALSCALE:GREGORIAN
X-ORIGINAL-URL:http://www.fmi.org/forms/meeting/MeetingFormPublic/view?id=4CC505000000E4
BEGIN:VEVENT
SUMMARY:FMI Webinar:  Traceability in a Global Food System
LAST-MODIFIED:20180215T160000Z
UID:ci_4CC505000000E4@matrixgroup.net
CLASS:PUBLIC
CREATED:20180215T160000Z
DTSTAMP:20180215T160000Z
DTSTART:20180215T160000Z
X-FUNAMBOL-ALLDAY:1
LOCATION:
DESCRIPTION:For+full+info+see+http%3A%2F%2Fwww.fmi.org%2Fforms%2Fmeeting%2FMeetingFormPublic%2Fview%3Fid%3D4CC505000000E4%0ATejas+Bhatt%2C+Director+for+the+Global+Food+Traceability+Center+%28GFTC%29%2C+will+discuss+the+GFTC+and+the+resources+GFTC+offers+the+food+industry+to+improve+traceability+and+advance+food+safety.++
X-WR-CALDESC:For+full+info+see+http%3A%2F%2Fwww.fmi.org%2Fforms%2Fmeeting%2FMeetingFormPublic%2Fview%3Fid%3D4CC505000000E4%0ATejas+Bhatt%2C+Director+for+the+Global+Food+Traceability+Center+%28GFTC%29%2C+will+discuss+the+GFTC+and+the+resources+GFTC+offers+the+food+industry+to+improve+traceability+and+advance+food+safety.++
X-WR-CALNAME:Maxx Calendar
DTEND:20180215T170000Z
URL:http://www.fmi.org/forms/meeting/MeetingFormPublic/view?id=4CC505000000E4
END:VEVENT
END:VCALENDAR