BEGIN:VCALENDAR
PRODID:-//MatrixMaxx//RemoteApi//EN
VERSION:2.0
METHOD:PUBLISH
CALSCALE:GREGORIAN
X-ORIGINAL-URL:http://www.fmi.org/forms/meeting/MeetingFormPublic/view?id=4A82B400000008
BEGIN:VEVENT
SUMMARY:Webinar: A Comprehensive Discussion of the ADA and Service Animals in Food Retail
LAST-MODIFIED:20171213T190000Z
UID:ci_4A82B400000008@matrixgroup.net
CLASS:PUBLIC
CREATED:20171213T190000Z
DTSTAMP:20171213T190000Z
DTSTART:20171213T190000Z
X-FUNAMBOL-ALLDAY:1
LOCATION:
DESCRIPTION:For+full+info+see+http%3A%2F%2Fwww.fmi.org%2Fforms%2Fmeeting%2FMeetingFormPublic%2Fview%3Fid%3D4A82B400000008%0APlease+join+FMI+and+the+Department+of+Justice+for+a+comprehensive+overview+of+how+the+Americans+with+Disabilities+Act+%28ADA%29+apply+to+service+animals.+
X-WR-CALDESC:For+full+info+see+http%3A%2F%2Fwww.fmi.org%2Fforms%2Fmeeting%2FMeetingFormPublic%2Fview%3Fid%3D4A82B400000008%0APlease+join+FMI+and+the+Department+of+Justice+for+a+comprehensive+overview+of+how+the+Americans+with+Disabilities+Act+%28ADA%29+apply+to+service+animals.+
X-WR-CALNAME:Maxx Calendar
DTEND:20171213T200000Z
URL:http://www.fmi.org/forms/meeting/MeetingFormPublic/view?id=4A82B400000008
END:VEVENT
END:VCALENDAR