BEGIN:VCALENDAR
PRODID:-//MatrixMaxx//RemoteApi//EN
VERSION:2.0
METHOD:PUBLISH
CALSCALE:GREGORIAN
X-ORIGINAL-URL:http://www.fmi.org/forms/meeting/MeetingFormPublic/view?id=4A122300000239
BEGIN:VEVENT
SUMMARY:Tax Reform Overview
LAST-MODIFIED:20171103T193000Z
UID:ci_4A122300000239@matrixgroup.net
CLASS:PUBLIC
CREATED:20171103T193000Z
DTSTAMP:20171103T193000Z
DTSTART:20171103T193000Z
X-FUNAMBOL-ALLDAY:1
LOCATION:FMI+Webinar
DESCRIPTION:For+full+info+see+http%3A%2F%2Fwww.fmi.org%2Fforms%2Fmeeting%2FMeetingFormPublic%2Fview%3Fid%3D4A122300000239%0AFMI+will+host+a+webinar+to+provide+members+with+an+overview+of+recently+released+tax+reform+legislation.
X-WR-CALDESC:For+full+info+see+http%3A%2F%2Fwww.fmi.org%2Fforms%2Fmeeting%2FMeetingFormPublic%2Fview%3Fid%3D4A122300000239%0AFMI+will+host+a+webinar+to+provide+members+with+an+overview+of+recently+released+tax+reform+legislation.
X-WR-CALNAME:Maxx Calendar
DTEND:20171103T203000Z
URL:http://www.fmi.org/forms/meeting/MeetingFormPublic/view?id=4A122300000239
END:VEVENT
END:VCALENDAR