BEGIN:VCALENDAR
PRODID:-//MatrixMaxx//RemoteApi//EN
VERSION:2.0
METHOD:PUBLISH
CALSCALE:GREGORIAN
X-ORIGINAL-URL:http://www.fmi.org/forms/meeting/MeetingFormPublic/view?id=49974B00000238
BEGIN:VEVENT
SUMMARY:Food Protection Committee Meeting (in conjunction with the 2018 FMI Midwinter Executive Conference)
LAST-MODIFIED:20180124T170000Z
UID:ci_49974B00000238@matrixgroup.net
CLASS:PUBLIC
CREATED:20180124T170000Z
DTSTAMP:20180124T170000Z
DTSTART:20180124T170000Z
X-FUNAMBOL-ALLDAY:1
LOCATION:Pullman+Miami+Airport+Hotel
DESCRIPTION:For full info see http://www.fmi.org/forms/meeting/MeetingFormPublic/view?id=49974B00000238\n
DTEND:20180126T220000Z
URL:http://www.fmi.org/forms/meeting/MeetingFormPublic/view?id=49974B00000238
END:VEVENT
END:VCALENDAR