BEGIN:VCALENDAR
PRODID:-//MatrixMaxx//RemoteApi//EN
VERSION:2.0
METHOD:PUBLISH
CALSCALE:GREGORIAN
X-ORIGINAL-URL:http://www.fmi.org/forms/meeting/MeetingFormPublic/view?id=490F9200000282
BEGIN:VEVENT
SUMMARY:Visualizing the Future of Retail with VR
LAST-MODIFIED:20171025T180000Z
UID:ci_490F9200000282@matrixgroup.net
CLASS:PUBLIC
CREATED:20171025T180000Z
DTSTAMP:20171025T180000Z
DTSTART:20171025T180000Z
X-FUNAMBOL-ALLDAY:1
LOCATION:Webinar
DESCRIPTION:For full info see http://www.fmi.org/forms/meeting/MeetingFormPublic/view?id=490F9200000282\nIn the retail space, the pressing need to innovate business practices is a consistent topic of conversation. According to the Global Consumer Executive Top of Mind survey conducted by KPMG International and The Consumer Goods Forum.
DTEND:20171025T190000Z
URL:http://www.fmi.org/forms/meeting/MeetingFormPublic/view?id=490F9200000282
END:VEVENT
END:VCALENDAR