BEGIN:VCALENDAR
PRODID:-//MatrixMaxx//RemoteApi//EN
VERSION:2.0
METHOD:PUBLISH
CALSCALE:GREGORIAN
X-ORIGINAL-URL:http://www.fmi.org/forms/meeting/MeetingFormPublic/view?id=49074E000000C4
BEGIN:VEVENT
SUMMARY:The Path Forward: Inventing and Winning the Digital Future, Today!
LAST-MODIFIED:20171017T180000Z
UID:ci_49074E000000C4@matrixgroup.net
CLASS:PUBLIC
CREATED:20171017T180000Z
DTSTAMP:20171017T180000Z
DTSTART:20171017T180000Z
X-FUNAMBOL-ALLDAY:1
LOCATION:Webinar
DESCRIPTION:For+full+info+see+http%3A%2F%2Fwww.fmi.org%2Fforms%2Fmeeting%2FMeetingFormPublic%2Fview%3Fid%3D49074E000000C4%0AThe+blistering+pace+of+change+in+the+CPG%2FFood+Retailing+Industry+has+created+new+threats+and+opportunities+that+will+realign+the+marketplace+and+determine+tomorrow%E2%80%99s+winners+and+losers.+Which+one+will+you+be%3F
X-WR-CALDESC:For+full+info+see+http%3A%2F%2Fwww.fmi.org%2Fforms%2Fmeeting%2FMeetingFormPublic%2Fview%3Fid%3D49074E000000C4%0AThe+blistering+pace+of+change+in+the+CPG%2FFood+Retailing+Industry+has+created+new+threats+and+opportunities+that+will+realign+the+marketplace+and+determine+tomorrow%E2%80%99s+winners+and+losers.+Which+one+will+you+be%3F
X-WR-CALNAME:Maxx Calendar
DTEND:20171017T190000Z
URL:http://www.fmi.org/forms/meeting/MeetingFormPublic/view?id=49074E000000C4
END:VEVENT
END:VCALENDAR