BEGIN:VCALENDAR
PRODID:-//MatrixMaxx//RemoteApi//EN
VERSION:2.0
METHOD:PUBLISH
CALSCALE:GREGORIAN
X-ORIGINAL-URL:http://www.fmi.org/forms/meeting/MeetingFormPublic/view?id=48E9F40000011E
BEGIN:VEVENT
SUMMARY:Food Retail 20/20 Imperative
LAST-MODIFIED:20180515T110000Z
UID:ci_48E9F40000011E@matrixgroup.net
CLASS:PUBLIC
CREATED:20180515T110000Z
DTSTAMP:20180515T110000Z
DTSTART:20180515T110000Z
X-FUNAMBOL-ALLDAY:1
LOCATION:
DESCRIPTION:For+full+info+see+http%3A%2F%2Fwww.fmi.org%2Fforms%2Fmeeting%2FMeetingFormPublic%2Fview%3Fid%3D48E9F40000011E%0ABy+invitation%2C+join+in+for+executive+collaboration+on+new+business+models+and+how+the+food+retail+workforce+will+change+to+meet+the+competitive+landscape.%0D%0A
X-WR-CALDESC:For+full+info+see+http%3A%2F%2Fwww.fmi.org%2Fforms%2Fmeeting%2FMeetingFormPublic%2Fview%3Fid%3D48E9F40000011E%0ABy+invitation%2C+join+in+for+executive+collaboration+on+new+business+models+and+how+the+food+retail+workforce+will+change+to+meet+the+competitive+landscape.%0D%0A
X-WR-CALNAME:Maxx Calendar
DTEND:20180515T180000Z
URL:http://www.fmi.org/forms/meeting/MeetingFormPublic/view?id=48E9F40000011E
END:VEVENT
END:VCALENDAR