BEGIN:VCALENDAR
PRODID:-//MatrixMaxx//RemoteApi//EN
VERSION:2.0
METHOD:PUBLISH
CALSCALE:GREGORIAN
X-ORIGINAL-URL:http://www.fmi.org/forms/meeting/Microsite/HWMeetingFall17
BEGIN:VEVENT
SUMMARY:Health and Wellness Council Meeting
LAST-MODIFIED:20171101T220000Z
UID:ci_4819EB00000066@matrixgroup.net
CLASS:PUBLIC
CREATED:20171101T220000Z
DTSTAMP:20171101T220000Z
DTSTART:20171101T220000Z
X-FUNAMBOL-ALLDAY:1
LOCATION:
DESCRIPTION:For+full+info+see+http%3A%2F%2Fwww.fmi.org%2Fforms%2Fmeeting%2FMicrosite%2FHWMeetingFall17%0AThis+meeting+is+for+FMI%27s+Health+and+Wellness+Council.++For+questions%2C+please+contact+Tom+Cosgrove+%28TCosgrove%40fmi.org%29
X-WR-CALDESC:For+full+info+see+http%3A%2F%2Fwww.fmi.org%2Fforms%2Fmeeting%2FMicrosite%2FHWMeetingFall17%0AThis+meeting+is+for+FMI%27s+Health+and+Wellness+Council.++For+questions%2C+please+contact+Tom+Cosgrove+%28TCosgrove%40fmi.org%29
X-WR-CALNAME:Maxx Calendar
DTEND:20171102T190000Z
URL:http://www.fmi.org/forms/meeting/Microsite/HWMeetingFall17
END:VEVENT
END:VCALENDAR