BEGIN:VCALENDAR
PRODID:-//MatrixMaxx//RemoteApi//EN
VERSION:2.0
METHOD:PUBLISH
CALSCALE:GREGORIAN
X-ORIGINAL-URL:http://www.fmi.org/forms/meeting/Microsite/smartlabel-summit
BEGIN:VEVENT
SUMMARY:2017 TPA SmartLabel Summit
LAST-MODIFIED:20171101
UID:ci_470C60000001EB@matrixgroup.net
CLASS:PUBLIC
CREATED:20171101
DTSTAMP:20171101
DTSTART:20171101
X-FUNAMBOL-ALLDAY:1
LOCATION:DoubleTree+by+Hilton+Hotel
DESCRIPTION:For+full+info+see+http%3A%2F%2Fwww.fmi.org%2Fforms%2Fmeeting%2FMicrosite%2Fsmartlabel-summit%0ADesigned+to+meet+the+specific+needs+of+companies+using+or+looking+to+get+started+with+SmartLabel%E2%84%A2%2C+this+workshop+provides+an+education+on+the+most+relevant+topics+to+derive+the+best+value+from+SmartLabel%E2%84%A2.%0D%0A
X-WR-CALDESC:For+full+info+see+http%3A%2F%2Fwww.fmi.org%2Fforms%2Fmeeting%2FMicrosite%2Fsmartlabel-summit%0ADesigned+to+meet+the+specific+needs+of+companies+using+or+looking+to+get+started+with+SmartLabel%E2%84%A2%2C+this+workshop+provides+an+education+on+the+most+relevant+topics+to+derive+the+best+value+from+SmartLabel%E2%84%A2.%0D%0A
X-WR-CALNAME:Maxx Calendar
DTEND:20171103
URL:http://www.fmi.org/forms/meeting/Microsite/smartlabel-summit
END:VEVENT
END:VCALENDAR