BEGIN:VCALENDAR
PRODID:-//MatrixMaxx//RemoteApi//EN
VERSION:2.0
METHOD:PUBLISH
CALSCALE:GREGORIAN
X-ORIGINAL-URL:http://www.fmi.org/forms/meeting/Microsite/DIW2018
BEGIN:VEVENT
SUMMARY:2018 "Day in Washington"
LAST-MODIFIED:20180410T113000Z
UID:ci_47021B000000B1@matrixgroup.net
CLASS:PUBLIC
CREATED:20180410T113000Z
DTSTAMP:20180410T113000Z
DTSTART:20180410T113000Z
X-FUNAMBOL-ALLDAY:1
LOCATION:The+Liaison+Capitol+Hill
DESCRIPTION:For+full+info+see+http%3A%2F%2Fwww.fmi.org%2Fforms%2Fmeeting%2FMicrosite%2FDIW2018%0A%22Day+in+Washington%22+brings+senior+level+retailer+and+wholesaler+executives+together+with+Members+of+Congress+and+administration+officials+to+address+critical+industry+public+policy+issues.
X-WR-CALDESC:For+full+info+see+http%3A%2F%2Fwww.fmi.org%2Fforms%2Fmeeting%2FMicrosite%2FDIW2018%0A%22Day+in+Washington%22+brings+senior+level+retailer+and+wholesaler+executives+together+with+Members+of+Congress+and+administration+officials+to+address+critical+industry+public+policy+issues.
X-WR-CALNAME:Maxx Calendar
DTEND:20180412T190000Z
URL:http://www.fmi.org/forms/meeting/Microsite/DIW2018
END:VEVENT
END:VCALENDAR