BEGIN:VCALENDAR
PRODID:-//MatrixMaxx//RemoteApi//EN
VERSION:2.0
METHOD:PUBLISH
CALSCALE:GREGORIAN
X-ORIGINAL-URL:http://www.fmi.org/forms/meeting/MeetingFormPublic/view?id=46EDC8000000C9
BEGIN:VEVENT
SUMMARY:Food Protection Committee (FPC) Meeting (in conjunction with SQF Conference)
LAST-MODIFIED:20171107T140000Z
UID:ci_46EDC8000000C9@matrixgroup.net
CLASS:PUBLIC
CREATED:20171107T140000Z
DTSTAMP:20171107T140000Z
DTSTART:20171107T140000Z
X-FUNAMBOL-ALLDAY:1
LOCATION:Hyatt+Regency+Dallas+at+Reunion
DESCRIPTION:For+full+info+see+http%3A%2F%2Fwww.fmi.org%2Fforms%2Fmeeting%2FMeetingFormPublic%2Fview%3Fid%3D46EDC8000000C9%0A
X-WR-CALDESC:For+full+info+see+http%3A%2F%2Fwww.fmi.org%2Fforms%2Fmeeting%2FMeetingFormPublic%2Fview%3Fid%3D46EDC8000000C9%0A
X-WR-CALNAME:Maxx Calendar
DTEND:20171107T163000Z
URL:http://www.fmi.org/forms/meeting/MeetingFormPublic/view?id=46EDC8000000C9
END:VEVENT
END:VCALENDAR