BEGIN:VCALENDAR
PRODID:-//MatrixMaxx//RemoteApi//EN
VERSION:2.0
METHOD:PUBLISH
CALSCALE:GREGORIAN
X-ORIGINAL-URL:http://www.fmi.org/forms/meeting/MeetingFormPublic/view?id=4593FD000000E5
BEGIN:VEVENT
SUMMARY:2017 Food Defense/Crisis Management/Emergency Preparedness Management Certificate Course
LAST-MODIFIED:20170822T120000Z
UID:ci_4593FD000000E5@matrixgroup.net
CLASS:PUBLIC
CREATED:20170822T120000Z
DTSTAMP:20170822T120000Z
DTSTART:20170822T120000Z
X-FUNAMBOL-ALLDAY:1
LOCATION:Food+Marketing+Institute
DESCRIPTION:For+full+info+see+http%3A%2F%2Fwww.fmi.org%2Fforms%2Fmeeting%2FMeetingFormPublic%2Fview%3Fid%3D4593FD000000E5%0AThis+two-day+certificate+course+will+help+you+protect+your+company%E2%80%99s+assets%2C+employees%2C+products+and+brand+and+help+you+prevent%2C+mitigate+and+respond+to+a+disaster%2C+emergency+or+terrorist+threat.+
X-WR-CALDESC:For+full+info+see+http%3A%2F%2Fwww.fmi.org%2Fforms%2Fmeeting%2FMeetingFormPublic%2Fview%3Fid%3D4593FD000000E5%0AThis+two-day+certificate+course+will+help+you+protect+your+company%E2%80%99s+assets%2C+employees%2C+products+and+brand+and+help+you+prevent%2C+mitigate+and+respond+to+a+disaster%2C+emergency+or+terrorist+threat.+
X-WR-CALNAME:Maxx Calendar
DTEND:20170823T210000Z
URL:http://www.fmi.org/forms/meeting/MeetingFormPublic/view?id=4593FD000000E5
END:VEVENT
END:VCALENDAR