BEGIN:VCALENDAR
PRODID:-//MatrixMaxx//RemoteApi//EN
VERSION:2.0
METHOD:PUBLISH
CALSCALE:GREGORIAN
X-ORIGINAL-URL:http://www.fmi.org/forms/meeting/Microsite/ESD2017
BEGIN:VEVENT
SUMMARY:2017 Energy and Store Development Conference
LAST-MODIFIED:20170924
UID:ci_4549AC00000065@matrixgroup.net
CLASS:PUBLIC
CREATED:20170924
DTSTAMP:20170924
DTSTART:20170924
X-FUNAMBOL-ALLDAY:1
LOCATION:Hilton+Orlando+Bonnet+Creek
DESCRIPTION:For+full+info+see+http%3A%2F%2Fwww.fmi.org%2Fforms%2Fmeeting%2FMicrosite%2FESD2017%0A650%2B+vice+presidents%2C+directors+and+managers+in+energy%2C+refrigeration%2C+and+store+development+gather+to+learn+from+the+best+in+the+food+retail+industry+about+energy+efficiency+and+conservation%2C+as+well+as+store+design+and+merchandising.++
X-WR-CALDESC:For+full+info+see+http%3A%2F%2Fwww.fmi.org%2Fforms%2Fmeeting%2FMicrosite%2FESD2017%0A650%2B+vice+presidents%2C+directors+and+managers+in+energy%2C+refrigeration%2C+and+store+development+gather+to+learn+from+the+best+in+the+food+retail+industry+about+energy+efficiency+and+conservation%2C+as+well+as+store+design+and+merchandising.++
X-WR-CALNAME:Maxx Calendar
DTEND:20170928
URL:http://www.fmi.org/forms/meeting/Microsite/ESD2017
END:VEVENT
END:VCALENDAR