BEGIN:VCALENDAR
PRODID:-//MatrixMaxx//RemoteApi//EN
VERSION:2.0
METHOD:PUBLISH
CALSCALE:GREGORIAN
X-ORIGINAL-URL:http://www.fmi.org/forms/meeting/Microsite/dayinwashington2017
BEGIN:VEVENT
SUMMARY:2017 "A Day in Washington"
LAST-MODIFIED:20170501T113000Z
UID:ci_42FE4400000040@matrixgroup.net
CLASS:PUBLIC
CREATED:20170501T113000Z
DTSTAMP:20170501T113000Z
DTSTART:20170501T113000Z
X-FUNAMBOL-ALLDAY:1
LOCATION:The+Liaison+Capitol+Hill
DESCRIPTION:For+full+info+see+http%3A%2F%2Fwww.fmi.org%2Fforms%2Fmeeting%2FMicrosite%2Fdayinwashington2017%0A
X-WR-CALDESC:For+full+info+see+http%3A%2F%2Fwww.fmi.org%2Fforms%2Fmeeting%2FMicrosite%2Fdayinwashington2017%0A
X-WR-CALNAME:Maxx Calendar
DTEND:20170504T190000Z
URL:http://www.fmi.org/forms/meeting/Microsite/dayinwashington2017
END:VEVENT
END:VCALENDAR