BEGIN:VCALENDAR
PRODID:-//MatrixMaxx//RemoteApi//EN
VERSION:2.0
METHOD:PUBLISH
CALSCALE:GREGORIAN
X-ORIGINAL-URL:http://www.fmi.org/forms/meeting/Microsite/dayinwashington2016
BEGIN:VEVENT
SUMMARY:2016 "A Day in Washington"
LAST-MODIFIED:20160419T113000Z
UID:ci_35F441000003B5@matrixgroup.net
CLASS:PUBLIC
CREATED:20160419T113000Z
DTSTAMP:20160419T113000Z
DTSTART:20160419T113000Z
X-FUNAMBOL-ALLDAY:1
LOCATION:Hyatt+Regency+on+Capitol+Hill
DESCRIPTION:For+full+info+see+http%3A%2F%2Fwww.fmi.org%2Fforms%2Fmeeting%2FMicrosite%2Fdayinwashington2016%0A
X-WR-CALDESC:For+full+info+see+http%3A%2F%2Fwww.fmi.org%2Fforms%2Fmeeting%2FMicrosite%2Fdayinwashington2016%0A
X-WR-CALNAME:Maxx Calendar
DTEND:20160421T190000Z
URL:http://www.fmi.org/forms/meeting/Microsite/dayinwashington2016
END:VEVENT
END:VCALENDAR