BEGIN:VCALENDAR
PRODID:-//MatrixMaxx//RemoteApi//EN
VERSION:2.0
METHOD:PUBLISH
CALSCALE:GREGORIAN
X-ORIGINAL-URL:http://www.fmi.org/forms/meeting/MeetingFormPublic/view?id=30521B00000055
BEGIN:VEVENT
SUMMARY:Webinar: FSMA Finalizes Preventive Control Rules: What now?
LAST-MODIFIED:20150923T170000Z
UID:ci_30521B00000055@matrixgroup.net
CLASS:PUBLIC
CREATED:20150923T170000Z
DTSTAMP:20150923T170000Z
DTSTART:20150923T170000Z
X-FUNAMBOL-ALLDAY:1
LOCATION:
DESCRIPTION:For full info see http://www.fmi.org/forms/meeting/MeetingFormPublic/view?id=30521B00000055\n
DTEND:20150923T180000Z
URL:http://www.fmi.org/forms/meeting/MeetingFormPublic/view?id=30521B00000055
END:VEVENT
END:VCALENDAR