BEGIN:VCALENDAR
PRODID:-//MatrixMaxx//RemoteApi//EN
VERSION:2.0
METHOD:PUBLISH
CALSCALE:GREGORIAN
X-ORIGINAL-URL:http://www.fmi.org/forms/meeting/Microsite/ABC2016
BEGIN:VEVENT
SUMMARY:2016 Annual Business Conference (ABC)
LAST-MODIFIED:20160918
UID:ci_2E03960000003D@matrixgroup.net
CLASS:PUBLIC
CREATED:20160918
DTSTAMP:20160918
DTSTART:20160918
X-FUNAMBOL-ALLDAY:1
LOCATION:JW+Marriott+Chicago
DESCRIPTION:For+full+info+see+http%3A%2F%2Fwww.fmi.org%2Fforms%2Fmeeting%2FMicrosite%2FABC2016%0A2016+Annual+Business+Conference+%28ABC%29
X-WR-CALDESC:For+full+info+see+http%3A%2F%2Fwww.fmi.org%2Fforms%2Fmeeting%2FMicrosite%2FABC2016%0A2016+Annual+Business+Conference+%28ABC%29
X-WR-CALNAME:Maxx Calendar
DTEND:20160922
URL:http://www.fmi.org/forms/meeting/Microsite/ABC2016
END:VEVENT
END:VCALENDAR