BEGIN:VCALENDAR
PRODID:-//MatrixMaxx//RemoteApi//EN
VERSION:2.0
METHOD:PUBLISH
CALSCALE:GREGORIAN
X-ORIGINAL-URL:http://www.fmi.org/forms/meeting/MeetingFormPublic/view?id=20727A00000D3D
BEGIN:VEVENT
SUMMARY:FMI Health & Wellness Stakeholders Summit
LAST-MODIFIED:20140929
UID:ci_20727A00000D3D@matrixgroup.net
CLASS:PUBLIC
CREATED:20140929
DTSTAMP:20140929
DTSTART:20140929
X-FUNAMBOL-ALLDAY:1
LOCATION:Hyatt+Dulles+Hotel
DESCRIPTION:For full info see http://www.fmi.org/forms/meeting/MeetingFormPublic/view?id=20727A00000D3D\n
DTEND:20141001
URL:http://www.fmi.org/forms/meeting/MeetingFormPublic/view?id=20727A00000D3D
END:VEVENT
END:VCALENDAR