BEGIN:VCALENDAR
PRODID:-//MatrixMaxx//RemoteApi//EN
VERSION:2.0
METHOD:PUBLISH
CALSCALE:GREGORIAN
X-ORIGINAL-URL:http://www.fmi.org/forms/meeting/MeetingFormPublic/view?id=17D2000000009
BEGIN:VEVENT
SUMMARY:SQF Seminar in Brisbane
LAST-MODIFIED:20050905
UID:ci_17D2000000009@matrixgroup.net
CLASS:PUBLIC
CREATED:20050905
DTSTAMP:20050905
DTSTART:20050905
X-FUNAMBOL-ALLDAY:1
LOCATION:Food+Centre
DESCRIPTION:For+full+info+see+http%3A%2F%2Fwww.fmi.org%2Fforms%2Fmeeting%2FMeetingFormPublic%2Fview%3Fid%3D17D2000000009%0A
X-WR-CALDESC:For+full+info+see+http%3A%2F%2Fwww.fmi.org%2Fforms%2Fmeeting%2FMeetingFormPublic%2Fview%3Fid%3D17D2000000009%0A
X-WR-CALNAME:Maxx Calendar
DTEND:20050906
URL:http://www.fmi.org/forms/meeting/MeetingFormPublic/view?id=17D2000000009
END:VEVENT
END:VCALENDAR